BEGIN:VCALENDAR
VERSION:2.0
PRODID:-//uTe - ECPv6.15.13//NONSGML v1.0//EN
CALSCALE:GREGORIAN
METHOD:PUBLISH
X-ORIGINAL-URL:https://ute-netz.de
X-WR-CALDESC:Veranstaltungen für uTe
REFRESH-INTERVAL;VALUE=DURATION:PT1H
X-Robots-Tag:noindex
X-PUBLISHED-TTL:PT1H
BEGIN:VTIMEZONE
TZID:UTC
BEGIN:STANDARD
TZOFFSETFROM:+0000
TZOFFSETTO:+0000
TZNAME:UTC
DTSTART:20240101T000000
END:STANDARD
END:VTIMEZONE
BEGIN:VEVENT
DTSTART;TZID=UTC:20250912T183000
DTEND;TZID=UTC:20250912T214500
DTSTAMP:20260421T112520
CREATED:20250122T115600Z
LAST-MODIFIED:20250122T115604Z
UID:72670-1757701800-1757713500@ute-netz.de
SUMMARY:5. „Rendezvous mit der Zukunft“
DESCRIPTION:5. Rendezvous mit der Zukunft\n			\n				\n				\n				\n				\n				Bildungsveranstaltung zum Nachdenken über Grenzen hinaus \nThema: Ganzheitlich fit\, gesund und gut versorgt – Utopie oder Zukunft? \nSchirmherrin: Dr. med. Yasmin Katja Foroutan-Schreiber\, \nneue Leiterin des Gesundheitsamtes im Rhein-Erft-Kreis \nKooperation: uTe mit Stadt Erftstadt und WFG Rhein-Erft \nEinlass nur nach Anmeldbestätigung \nAnmeldungsprocedere folgt über www.rendezvous-zukunft.de \nBei Fragen: Ute Santander rendezvous@ute-netz.de \nOrt: Geske-Haus\, Erftstadt-Liblar \n			\n				\n				\n				\n				\n				offen für: alle
URL:https://ute-netz.de/termine/5-rendezvous-mit-der-zukunft/
LOCATION:Geske Musik- und Kulturhaus\, Gustav-Heinemann-Str. 1a\, Erftstadt-Liblar\, 50374
ATTACH;FMTTYPE=image/png:https://ute-netz.de/wp-content/uploads/2023/01/Rendevouz-mit-der-Zukunft.png
END:VEVENT
BEGIN:VEVENT
DTSTART;TZID=UTC:20250917T180000
DTEND;TZID=UTC:20250917T200000
DTSTAMP:20260421T112520
CREATED:20250122T112522Z
LAST-MODIFIED:20250409T122348Z
UID:72585-1758132000-1758139200@ute-netz.de
SUMMARY:Unternehmerischer Austausch After Work
DESCRIPTION:Unternehmerischer Austausch After Work\n			\n				\n				\n				\n				\n				\n\n\n\nkeine Anmeldung erforderlich. \nBistro ‚WILLkommen‘ am Markt\, Markt 19\, in Erftstadt- Lechenich \nBei Fragen bitte Birgit Krug\, Leitung PG Bildung\, kontaktieren: bildung@ute-netz.de \nWir tauschen uns auf Augenhöhe zu Themen aus\, die uns als Unternehmerin beschäftigen und geben so Einblicke in das eigene Business. Jede hat die Möglichkeit\, an dem Abend ein Thema einzubringen\, doch keine muss – Interesse genügt. \nkeine Anmeldung erforderlich \n\n\n\n\n			\n				\n				\n				\n				\n				\n\n\n\noffen für: nur für Mitglieder
URL:https://ute-netz.de/termine/unternehmerischer-austausch-after-work-20/
LOCATION:Bistro ‚WILLkommen‘ am Markt\, Markt 19\, Erftstadt- Lechenich\, 50374
ATTACH;FMTTYPE=image/png:https://ute-netz.de/wp-content/uploads/2023/01/Termine.png
END:VEVENT
END:VCALENDAR