BEGIN:VCALENDAR
VERSION:2.0
PRODID:-//uTe - ECPv6.15.13//NONSGML v1.0//EN
CALSCALE:GREGORIAN
METHOD:PUBLISH
X-ORIGINAL-URL:https://ute-netz.de
X-WR-CALDESC:Veranstaltungen für uTe
REFRESH-INTERVAL;VALUE=DURATION:PT1H
X-Robots-Tag:noindex
X-PUBLISHED-TTL:PT1H
BEGIN:VTIMEZONE
TZID:UTC
BEGIN:STANDARD
TZOFFSETFROM:+0000
TZOFFSETTO:+0000
TZNAME:UTC
DTSTART:20240101T000000
END:STANDARD
END:VTIMEZONE
BEGIN:VEVENT
DTSTART;TZID=UTC:20251119T180000
DTEND;TZID=UTC:20251119T200000
DTSTAMP:20260421T143849
CREATED:20250122T113230Z
LAST-MODIFIED:20250409T122334Z
UID:72612-1763575200-1763582400@ute-netz.de
SUMMARY:Unternehmerischer Austausch After Work
DESCRIPTION:Unternehmerischer Austausch After Work\n			\n				\n				\n				\n				\n				\n\n\n\nkeine Anmeldung erforderlich. \nBistro ‚WILLkommen‘ am Markt\, Markt 19\, in Erftstadt- Lechenich \nBei Fragen bitte Birgit Krug\, Leitung PG Bildung\, kontaktieren: bildung@ute-netz.de \nWir tauschen uns auf Augenhöhe zu Themen aus\, die uns als Unternehmerin beschäftigen und geben so Einblicke in das eigene Business. Jede hat die Möglichkeit\, an dem Abend ein Thema einzubringen\, doch keine muss – Interesse genügt. \nkeine Anmeldung erforderlich \n\n\n\n\n			\n				\n				\n				\n				\n				\n\n\n\noffen für: nur für Mitglieder
URL:https://ute-netz.de/termine/unternehmerischer-austausch-after-work-24/
LOCATION:Bistro ‚WILLkommen‘ am Markt\, Markt 19\, Erftstadt- Lechenich\, 50374
ATTACH;FMTTYPE=image/png:https://ute-netz.de/wp-content/uploads/2023/01/Termine.png
END:VEVENT
END:VCALENDAR