BEGIN:VCALENDAR
VERSION:2.0
PRODID:-//uTe - ECPv6.15.13//NONSGML v1.0//EN
CALSCALE:GREGORIAN
METHOD:PUBLISH
X-WR-CALNAME:uTe
X-ORIGINAL-URL:https://ute-netz.de
X-WR-CALDESC:Veranstaltungen für uTe
REFRESH-INTERVAL;VALUE=DURATION:PT1H
X-Robots-Tag:noindex
X-PUBLISHED-TTL:PT1H
BEGIN:VTIMEZONE
TZID:UTC
BEGIN:STANDARD
TZOFFSETFROM:+0000
TZOFFSETTO:+0000
TZNAME:UTC
DTSTART:20250101T000000
END:STANDARD
END:VTIMEZONE
BEGIN:VEVENT
DTSTART;TZID=UTC:20260311T180000
DTEND;TZID=UTC:20260311T200000
DTSTAMP:20260422T052633
CREATED:20251231T111200Z
LAST-MODIFIED:20251231T111202Z
UID:73156-1773252000-1773259200@ute-netz.de
SUMMARY:Unternehmerischer Austausch After Work 11.03.2026
DESCRIPTION:Unternehmerischer Austausch After Work\n			\n				\n				\n				\n				\n				\n\n\n\nWo: WILLkommen am Markt\, 50374 Erftstadt-Lechenich \nBei Fragen bitte Birgit Krug\, Leitung PG Bildung\, kontaktieren: bildung@ute-netz.de \nÄnderungen möglich\, bitte achtet auf aktuelle Ankündigungen in der WhatsApp Infogruppe. \n\n\n\n\n			\n				\n				\n				\n				\n				\n\n\n\noffen für: nur für Mitglieder
URL:https://ute-netz.de/termine/unternehmerischer-austausch-after-work-11-03-2026/
LOCATION:Bistro ‚WILLkommen‘ am Markt\, Markt 19\, Erftstadt- Lechenich\, 50374
ATTACH;FMTTYPE=image/png:https://ute-netz.de/wp-content/uploads/2023/01/Termine.png
END:VEVENT
BEGIN:VEVENT
DTSTART;VALUE=DATE:20260321
DTEND;VALUE=DATE:20260322
DTSTAMP:20260422T052633
CREATED:20251231T111634Z
LAST-MODIFIED:20251231T111703Z
UID:73164-1774051200-1774137599@ute-netz.de
SUMMARY:uTe-Frühjahrtagung 21.03.2026
DESCRIPTION:uTe-Frühjahrstagung\n			\n				\n				\n				\n				\n				\n\n\n\n-gemeinsam erfolgreich- \n\nMitgestaltung Themen und Veranstaltungen 2026\nStrategische Ausrichtung uTe\nImageschärfung\nMit Themen bezogenen Arbeitsgruppen\n\nInkl.   \n20 – Min. Workshop draußen: Rücktraining mit Silke Drilling \nBooster-Tipps für einen wachen Tag \nEntspannungseinheiten \nZeit zum Kennenlernen \nSpaß am gemeinsamen Gestalten \n  \nModeration: Christine Fischer \nBei Fragen und zur Anmeldung: Sandra Hullermann tagung@ute-netz.de \nOrt: Hotel Restaurant Rotes Einhorn\, Düren \n\n\n\n\n			\n				\n				\n				\n				\n				\n\n\n\noffen für: stimmberechtigte Mitglieder
URL:https://ute-netz.de/termine/ute-fruehjahrtagung-21-03-2026/
LOCATION:Hotel Restaurant Rotes Einhorn\, Düren\, Monschauer Landstraße 152\, Düren\, 52355
ATTACH;FMTTYPE=image/png:https://ute-netz.de/wp-content/uploads/2023/01/Jahrestagung.png
END:VEVENT
END:VCALENDAR